BEGIN:VCALENDAR
VERSION:2.0
PRODID:-//eventon.com NONSGML v1.0//EN
CALSCALE:GREGORIAN
METHOD:PUBLISH
BEGIN:VEVENT
UID:69e73bde05569
DTSTAMP:20260421T085702Z
DTSTART:20260822T140000Z
DTEND:20260822T220000Z
LOCATION:TDSA 1125 Wolf Springs Rd. Ferris\,  TX 75125
SUMMARY:Zeroing and Fundamentals Clinic
DESCRIPTION:Just get a new rifle and need to set it up and zero it? Or do y
 ou just need to knock the rust off or re-confirm your data/zero? This is th
 e course for you. We decided to list a one day clinic to meet the needs of 
 the shooting community.[..]\nhttps://www.greeneyetactical.com/events/zeroin
 g-and-fundamentals-clinic/
URL:https://www.greeneyetactical.com/events/zeroing-and-fundamentals-clinic/
END:VEVENT
END:VCALENDAR