BEGIN:VCALENDAR
VERSION:2.0
PRODID:-//eventon.com NONSGML v1.0//EN
CALSCALE:GREGORIAN
METHOD:PUBLISH
BEGIN:VEVENT
UID:69e747f6a0674
DTSTAMP:20260421T094838Z
DTSTART:20210605
DTEND:20210606
LOCATION:Triple C Tactical 14333 Cleburne Hwy Cresson Texas 76035
SUMMARY:Small Unit Tactics Course
DESCRIPTION:Thank you for your interest in Green Eye Tactical Training. The
  Small Unit Tactics Course is designed to teach the fundamentals of Team an
 d Squad level tactics. You will be introduced to the same building block sk
 ills taught to Operators during training. Emphasis will be placed on the ba
 sic fundamentals[..]\nhttps://www.greeneyetactical.com/events/small-unit-ta
 ctics-course/
URL:https://www.greeneyetactical.com/events/small-unit-tactics-course/
END:VEVENT
END:VCALENDAR